BEGIN:VCALENDAR
VERSION:2.0
PRODID:-//Association de la Feuillaume - ECPv6.8.3//NONSGML v1.0//EN
CALSCALE:GREGORIAN
METHOD:PUBLISH
X-ORIGINAL-URL:https://www.lafeuillaume.fr
X-WR-CALDESC:Évènements pour Association de la Feuillaume
REFRESH-INTERVAL;VALUE=DURATION:PT1H
X-Robots-Tag:noindex
X-PUBLISHED-TTL:PT1H
BEGIN:VTIMEZONE
TZID:UTC
BEGIN:STANDARD
TZOFFSETFROM:+0000
TZOFFSETTO:+0000
TZNAME:UTC
DTSTART:20230101T000000
END:STANDARD
END:VTIMEZONE
BEGIN:VEVENT
DTSTART;VALUE=DATE:20230618
DTEND;VALUE=DATE:20230619
DTSTAMP:20260425T204612
CREATED:20230502T093249Z
LAST-MODIFIED:20230502T093249Z
UID:27435-1687046400-1687132799@www.lafeuillaume.fr
SUMMARY:VIDE GRENIER Dimanche 18 juin 2023
DESCRIPTION:VIDE GRENIER Dimanche 18 juin 2023 \nDe 9h à 17h\, Place Berthet (La Celle St Cloud) \nRenseignements et inscriptions : lafeuillaume@gmail.com\, à partir du vendredi 5 mai ! \nNous vous y attendons nombreux !
URL:https://www.lafeuillaume.fr/events/vide-grenier-dimanche-18-juin-2023/
LOCATION:Place Berthet\, LA CELLE SAINT CLOUD\, 78170\, France
CATEGORIES:brocante
ORGANIZER;CN="La Feuillaume":MAILTO:lafeuillaume@gmail.com
END:VEVENT
END:VCALENDAR