BEGIN:VCALENDAR
VERSION:2.0
PRODID:-//Association de la Feuillaume - ECPv6.8.3//NONSGML v1.0//EN
CALSCALE:GREGORIAN
METHOD:PUBLISH
X-WR-CALNAME:Association de la Feuillaume
X-ORIGINAL-URL:https://www.lafeuillaume.fr
X-WR-CALDESC:Évènements pour Association de la Feuillaume
REFRESH-INTERVAL;VALUE=DURATION:PT1H
X-Robots-Tag:noindex
X-PUBLISHED-TTL:PT1H
BEGIN:VTIMEZONE
TZID:UTC
BEGIN:STANDARD
TZOFFSETFROM:+0000
TZOFFSETTO:+0000
TZNAME:UTC
DTSTART:20180101T000000
END:STANDARD
TZID:Europe/Paris
BEGIN:DAYLIGHT
TZOFFSETFROM:+0100
TZOFFSETTO:+0200
TZNAME:CEST
DTSTART:20190331T010000
END:DAYLIGHT
BEGIN:STANDARD
TZOFFSETFROM:+0200
TZOFFSETTO:+0100
TZNAME:CET
DTSTART:20191027T010000
END:STANDARD
END:VTIMEZONE
BEGIN:VEVENT
DTSTART;TZID=UTC:20251005T140000
DTEND;TZID=UTC:20251005T170000
DTSTAMP:20260421T160247
CREATED:20250929T160306Z
LAST-MODIFIED:20250929T160307Z
UID:27677-1759672800-1759683600@www.lafeuillaume.fr
SUMMARY:🌳 Opération : NETTOYONS LA FORET dimanche 5 octobre 🌳
DESCRIPTION:
URL:https://www.lafeuillaume.fr/events/%f0%9f%8c%b3-operation-nettoyons-la-foret-dimanche-5-octobre-%f0%9f%8c%b3/
LOCATION:Départ Sente Bellocq\, 21 avenue des Suisses\, La Celle Saint-Cloud\, 78170\, France
CATEGORIES:nettoyons-la-forêt
ATTACH;FMTTYPE=image/png:https://www.lafeuillaume.fr/wp-content/uploads/2025/09/Capture-decran-2025-09-29-a-18.00.33.png
END:VEVENT
BEGIN:VEVENT
DTSTART;TZID=UTC:20240318T080000
DTEND;TZID=UTC:20240318T170000
DTSTAMP:20260421T160247
CREATED:20240318T094827Z
LAST-MODIFIED:20240318T094918Z
UID:27539-1710748800-1710781200@www.lafeuillaume.fr
SUMMARY:Assemblée Générale samedi 23 mars 2024
DESCRIPTION:Notre Assemblée Générale se tiendra le 23 mars 2024 de 11h30 à 13h\, au Petit Chez Soi\, au bourg place de l’église. \nNous aborderons les points suivants : \n\nComptes et points sur les adhésions\,\nSécurité dans notre quartier\,\nPLU\,\nEvénements à venir\,\nElection du bureau et nouveaux membres.\n\nNous vous y attendons nombreux ! \nA samedi !
URL:https://www.lafeuillaume.fr/events/assemblee-generale-samedi-23-mars-2024/
CATEGORIES:assemblée
END:VEVENT
BEGIN:VEVENT
DTSTART;TZID=UTC:20230909T193000
DTEND;TZID=UTC:20230909T233000
DTSTAMP:20260421T160247
CREATED:20230820T085427Z
LAST-MODIFIED:20230820T085427Z
UID:27492-1694287800-1694302200@www.lafeuillaume.fr
SUMMARY:Pique-nique de rentrée : samedi 9 septembre 2023
DESCRIPTION:Lieu : à l’angle de l’avenue Pigault et de l’avenue des Suisses \n 
URL:https://www.lafeuillaume.fr/events/pique-nique-de-rentree-samedi-9-septembre-2023/
CATEGORIES:pique-nique
ORGANIZER;CN="La Feuillaume":MAILTO:lafeuillaume@gmail.com
END:VEVENT
BEGIN:VEVENT
DTSTART;VALUE=DATE:20230618
DTEND;VALUE=DATE:20230619
DTSTAMP:20260421T160247
CREATED:20230502T093249Z
LAST-MODIFIED:20230502T093249Z
UID:27435-1687046400-1687132799@www.lafeuillaume.fr
SUMMARY:VIDE GRENIER Dimanche 18 juin 2023
DESCRIPTION:VIDE GRENIER Dimanche 18 juin 2023 \nDe 9h à 17h\, Place Berthet (La Celle St Cloud) \nRenseignements et inscriptions : lafeuillaume@gmail.com\, à partir du vendredi 5 mai ! \nNous vous y attendons nombreux !
URL:https://www.lafeuillaume.fr/events/vide-grenier-dimanche-18-juin-2023/
LOCATION:Place Berthet\, LA CELLE SAINT CLOUD\, 78170\, France
CATEGORIES:brocante
ORGANIZER;CN="La Feuillaume":MAILTO:lafeuillaume@gmail.com
END:VEVENT
BEGIN:VEVENT
DTSTART;TZID=UTC:20221031T170000
DTEND;TZID=UTC:20221031T200000
DTSTAMP:20260421T160247
CREATED:20220126T090021Z
LAST-MODIFIED:20220126T090021Z
UID:27290-1667235600-1667246400@www.lafeuillaume.fr
SUMMARY:Halloween
DESCRIPTION:Place Berthet
URL:https://www.lafeuillaume.fr/events/halloween-4/
LOCATION:Place Berthet\, LA CELLE SAINT CLOUD\, 78170\, France
CATEGORIES:halloween
END:VEVENT
BEGIN:VEVENT
DTSTART;TZID=UTC:20221009T140000
DTEND;TZID=UTC:20221009T170000
DTSTAMP:20260421T160247
CREATED:20220126T085900Z
LAST-MODIFIED:20220126T085900Z
UID:27287-1665324000-1665334800@www.lafeuillaume.fr
SUMMARY:Nettoyons La forêt
DESCRIPTION:RDV Sente Belloc \nSunrise in autumn forest in Poland\, Europe
URL:https://www.lafeuillaume.fr/events/nettoyons-la-foret-3/
CATEGORIES:nettoyons-la-forêt
END:VEVENT
BEGIN:VEVENT
DTSTART;TZID=UTC:20220902T193000
DTEND;TZID=UTC:20220902T233000
DTSTAMP:20260421T160247
CREATED:20220126T085141Z
LAST-MODIFIED:20220126T085700Z
UID:27281-1662147000-1662161400@www.lafeuillaume.fr
SUMMARY:Pique-Nique de rentrée
DESCRIPTION:A l’angle de l’Avenue Pigault Lebrun et de l’avenue des Suisses \npicnic basket and blanket outdoors
URL:https://www.lafeuillaume.fr/events/pique-nique-de-rentree-3/
LOCATION:Croisement Avenue des Suisses/Pigault-Lebrun\, 21 avenue des Suisses\, La Celle Saint-Cloud\, 78170\, France
CATEGORIES:pique-nique
END:VEVENT
BEGIN:VEVENT
DTSTART;TZID=UTC:20220619T090000
DTEND;TZID=UTC:20220619T170000
DTSTAMP:20260421T160247
CREATED:20220126T083548Z
LAST-MODIFIED:20220126T083548Z
UID:27273-1655629200-1655658000@www.lafeuillaume.fr
SUMMARY:Vide-Grenier Place Berthet 9h-17h
DESCRIPTION:Vide-Grenier Place Berthet 9h-17h \nInscription sur brocantelafeuillaume@gmail.com \n 
URL:https://www.lafeuillaume.fr/events/vide-grenier-place-berthet-9h-17h/
CATEGORIES:brocante
END:VEVENT
BEGIN:VEVENT
DTSTART;TZID=UTC:20220402T110000
DTEND;TZID=UTC:20220402T130000
DTSTAMP:20260421T160247
CREATED:20220126T083418Z
LAST-MODIFIED:20220329T081010Z
UID:27271-1648897200-1648904400@www.lafeuillaume.fr
SUMMARY:Assemblée Générale du Bureau au bar à vins RELAIS BERTHET
DESCRIPTION:Bonjour à tous\, \nNous serons heureux de vous accueillir (lieu encore à définir) pour notre assemblée générale annuelle qui se déroulera samedi 2 avril de 11h à 13h\, au bar à vins Le Relais Berthet. \nA l’issue de la réunion\, nous aurons le plaisir de partager avec vous un apéritif ! \nAu programme : \n\nBilan 2021\nElection du nouveau bureau.\nAccueil des nouveaux arrivants et apéritif offert aux personnes présentes\n\nLe Bureau
URL:https://www.lafeuillaume.fr/events/assemblee-generale-du-bureau/
CATEGORIES:assemblée
END:VEVENT
BEGIN:VEVENT
DTSTART;TZID=UTC:20211031T170000
DTEND;TZID=UTC:20211031T200000
DTSTAMP:20260421T160247
CREATED:20211014T125857Z
LAST-MODIFIED:20211025T130546Z
UID:23762-1635699600-1635710400@www.lafeuillaume.fr
SUMMARY:Halloween
DESCRIPTION:Nous organisons un évènement à l’occasion d’halloween le dimanche 31 octobre\, cliquez ici pour découvrir les détails de l’organisation ou contactez-nous pour obtenir des informations !
URL:https://www.lafeuillaume.fr/events/halloween-3/
LOCATION:Place Berthet\, LA CELLE SAINT CLOUD\, 78170\, France
CATEGORIES:halloween
ATTACH;FMTTYPE=image/jpeg:https://www.lafeuillaume.fr/wp-content/uploads/2021/10/three-cute-halloween-pumpkins-autumn-park-scaled.jpg
ORGANIZER;CN="La Feuillaume":MAILTO:lafeuillaume@gmail.com
END:VEVENT
BEGIN:VEVENT
DTSTART;TZID=UTC:20210529T103000
DTEND;TZID=UTC:20210529T123000
DTSTAMP:20260421T160247
CREATED:20210329T082219Z
LAST-MODIFIED:20220111T191129Z
UID:13065-1622284200-1622291400@www.lafeuillaume.fr
SUMMARY:Assemblée Générale de L'association 2021
DESCRIPTION:Bonjour à tous\,L’Assemblée Générale aura lieu le samedi 29 mai 2021.Nous vous tiendrons informés du lieu de cette réunion ultérieurement.A très bientôt\,Cordialement\,L’association de La Feuillaume
URL:https://www.lafeuillaume.fr/events/assemblee-generale-de-lassociation-2021/
END:VEVENT
BEGIN:VEVENT
DTSTART;TZID=UTC:20201011T140000
DTEND;TZID=UTC:20201011T163000
DTSTAMP:20260421T160247
CREATED:20200927T091517Z
LAST-MODIFIED:20200927T091517Z
UID:5480-1602424800-1602433800@www.lafeuillaume.fr
SUMMARY:Nettoyons la forêt!
DESCRIPTION:
URL:https://www.lafeuillaume.fr/events/nettoyons-la-foret-2/
ORGANIZER;CN="La Feuillaume":MAILTO:lafeuillaume@gmail.com
END:VEVENT
BEGIN:VEVENT
DTSTART;TZID=UTC:20200904T190000
DTEND;TZID=UTC:20200904T190000
DTSTAMP:20260421T160247
CREATED:20200826T160625Z
LAST-MODIFIED:20200828T071452Z
UID:4990-1599246000-1599246000@www.lafeuillaume.fr
SUMMARY:ANNULATION PIQUE-NIQUE DE LA RENTRÉE
DESCRIPTION:Chers habitants de la Feuillaume\, \nNous sommes malheureusement contraints cette année d’annuler le pique-nique de la rentrée organisé par notre association de quartier “La Feuillaume”\, anciennement prévu le 4 septembre. En effet\, la situation actuelle nous oblige à une certaine prudence et dénaturerait trop l’esprit de ce rendez vous annuel (port du masque\, distanciation sociale\, gestes barrières\, pas de buvette…) qui se veut festif et convivial!\nNous le reprogrammerons en 2021. \nBonne rentrée à tous!
URL:https://www.lafeuillaume.fr/events/annulation-pique-nique-de-la-rentree/
CATEGORIES:pique-nique
END:VEVENT
BEGIN:VEVENT
DTSTART;VALUE=DATE:20200614
DTEND;VALUE=DATE:20200615
DTSTAMP:20260421T160247
CREATED:20200507T102412Z
LAST-MODIFIED:20200507T102412Z
UID:4304-1592092800-1592179199@www.lafeuillaume.fr
SUMMARY:Annulation de la brocante
DESCRIPTION:Nous espérons que vous vous portez tous bien.\n\nNous vous informons que la brocante que nous organisons chaque année en juin\, place Berthet\,  est annulée dans ce contexte de Coronavirus.\n\nLe prochain événement organisé par l’association de la Feuillaume sera notre traditionnel pique-nique “de rentrée”\, vendredi 4 septembre : nous espérons que ce moment de convivialité après les vacances pourra être maintenu dans de bonnes conditions ! Nous reviendrons vers vous dès que possible.\n\nAu plaisir de se retrouver\,\n\nCarole Lichtblau\nPrésidente
URL:https://www.lafeuillaume.fr/events/annulation-de-la-brocante/
CATEGORIES:brocante
END:VEVENT
BEGIN:VEVENT
DTSTART;TZID=UTC:20191031T193000
DTEND;TZID=UTC:20191031T203000
DTSTAMP:20260421T160247
CREATED:20190306T124656Z
LAST-MODIFIED:20190306T182714Z
UID:1349-1572550200-1572553800@www.lafeuillaume.fr
SUMMARY:Halloween
DESCRIPTION:Après votre récolte de bonbons\, soirée Halloween avec apéro-terreur et élection des meilleurs déguisements et des maisons les plus terrifiantes à partir de 19H30 ! \nInformations pratiques communiquées quelques semaines avant l’évènement.
URL:https://www.lafeuillaume.fr/events/halloween-2/
LOCATION:Place Berthet\, LA CELLE SAINT CLOUD\, 78170\, France
CATEGORIES:halloween
ORGANIZER;CN="La Feuillaume":MAILTO:lafeuillaume@gmail.com
END:VEVENT
BEGIN:VEVENT
DTSTART;TZID=Europe/Paris:20190906T193000
DTEND;TZID=Europe/Paris:20190906T233000
DTSTAMP:20260421T160247
CREATED:20190306T124438Z
LAST-MODIFIED:20190306T124438Z
UID:1347-1567798200-1567812600@www.lafeuillaume.fr
SUMMARY:Pique-Nique de rentrée
DESCRIPTION:Le traditionnel pique-nique annuel de rentrée pour retrouver ses amis et voisins et partager un repas festif en famille\, avec petits et grands. \nApportez simplement votre repas\, tables et chaises fournies. \nEN CAS DE MAUVAIS TEMPS\, LE PIQUE-NIQUE SERA REPORTE AU VENDREDI 13 SEPTEMBRE\, MÊME HEURE MÊME EMPLACEMENT.
URL:https://www.lafeuillaume.fr/events/pique-nique-de-rentree-2/
LOCATION:Croisement Avenue des Suisses/Pigault-Lebrun\, 21 avenue des Suisses\, La Celle Saint-Cloud\, 78170\, France
CATEGORIES:pique-nique
ORGANIZER;CN="La Feuillaume":MAILTO:lafeuillaume@gmail.com
END:VEVENT
BEGIN:VEVENT
DTSTART;TZID=Europe/Paris:20190623T090000
DTEND;TZID=Europe/Paris:20190623T170000
DTSTAMP:20260421T160247
CREATED:20190306T123952Z
LAST-MODIFIED:20190306T124019Z
UID:1343-1561280400-1561309200@www.lafeuillaume.fr
SUMMARY:Vide-Grenier de la Feuillaume
DESCRIPTION:Le vide-grenier annuel organisé par l’Association de la Feuillaume avec un espace brocante\, sur la Place Berthet\, avec donc une excellente exposition au public. \nLes inscriptions seront ouvertes environ un mois avant la date de l’évènement.
URL:https://www.lafeuillaume.fr/events/1343/
LOCATION:Place Berthet\, LA CELLE SAINT CLOUD\, 78170\, France
ORGANIZER;CN="La Feuillaume":MAILTO:lafeuillaume@gmail.com
END:VEVENT
BEGIN:VEVENT
DTSTART;TZID=Europe/Paris:20190316T110000
DTEND;TZID=Europe/Paris:20190316T123000
DTSTAMP:20260421T160247
CREATED:20190305T184433Z
LAST-MODIFIED:20190306T185558Z
UID:1313-1552734000-1552739400@www.lafeuillaume.fr
SUMMARY:Assemblée Générale
DESCRIPTION:Une réunion clé pour faire le point sur l’année passée\, élire les membres du bureau\, partager vos préoccupations et définir les actions de l’année à venir. \nSi vous ne pouvez pas être présent(e)\, téléchargez le pouvoir ci-joint\, complétez-le\, scannez-le et envoyez-le nous via le formulaire ci-dessous. \nAG_Feuillaume_Mars2019_Pouvoir \n[ccf_form id=”1315″] \n 
URL:https://www.lafeuillaume.fr/events/assemblee-generale-2/
LOCATION:Mangalore Lounge\, 4 place du Docteur Berthet\, LA CELLE SAINT CLOUD\, Île-de-France\, 78170\, France
CATEGORIES:assemblée
ORGANIZER;CN="La Feuillaume":MAILTO:lafeuillaume@gmail.com
END:VEVENT
BEGIN:VEVENT
DTSTART;TZID=UTC:20181031T174500
DTEND;TZID=UTC:20181031T200000
DTSTAMP:20260421T160247
CREATED:20180221T222330Z
LAST-MODIFIED:20180221T222330Z
UID:1097-1541007900-1541016000@www.lafeuillaume.fr
SUMMARY:Halloween
DESCRIPTION:Soirée Halloween avec comme chaque année\, récolte de bonbons\, apéro-terreur et élection des meilleurs déguisements et des maisons les plus terrifiantes ! \nInformations pratiques communiquées quelques semaines avant l’évènement.
URL:https://www.lafeuillaume.fr/events/halloween/
LOCATION:Place Berthet\, LA CELLE SAINT CLOUD\, 78170\, France
CATEGORIES:halloween
ORGANIZER;CN="La Feuillaume":MAILTO:lafeuillaume@gmail.com
END:VEVENT
BEGIN:VEVENT
DTSTART;TZID=UTC:20181006T140000
DTEND;TZID=UTC:20181006T160000
DTSTAMP:20260421T160247
CREATED:20180221T222111Z
LAST-MODIFIED:20220111T191720Z
UID:1094-1538834400-1538841600@www.lafeuillaume.fr
SUMMARY:Nettoyons la Forêt
DESCRIPTION:Vous aimez vous promener dans les forêts de notre quartier? Vous souhaitez préserver la qualité de notre cadre de vie\, sensibiliser vos enfants à la fragilité du milieu forestier et leur apprendre à le respecter? \nAlors rejoignez-nous samedi 6 octobre à 14h. \nEn famille\, en groupe ou individuellement\, nous vous attendrons au départ de la Sente Belloc (Avenue des Suisses) \nPour la quatrième année consécutive\, l’Association de la Feuillaume organise cette opération en partenariat avec la Mairie et les écoles du quartier. \nUn goûter sera proposé et un prix sera remis par la Mairie à l’équipe ayant collecté l’objet le plus insolite. \nDes gants\, des T shirts et des sacs poubelle vous seront remis. Durant l’opération\, les enfants sont sous la responsabilité de leurs parents ou de l’adulte auquel ils ont été confiés.
URL:https://www.lafeuillaume.fr/events/nettoyons-la-foret/
LOCATION:Départ Sente Bellocq\, 21 avenue des Suisses\, La Celle Saint-Cloud\, 78170\, France
CATEGORIES:nettoyons-la-forêt
ORGANIZER;CN="La Feuillaume":MAILTO:lafeuillaume@gmail.com
END:VEVENT
BEGIN:VEVENT
DTSTART;TZID=UTC:20180907T193000
DTEND;TZID=UTC:20180907T233000
DTSTAMP:20260421T160247
CREATED:20180221T220427Z
LAST-MODIFIED:20220111T191703Z
UID:1088-1536348600-1536363000@www.lafeuillaume.fr
SUMMARY:Pique-Nique de rentrée
DESCRIPTION:Le traditionnel pique-nique annuel de rentrée pour retrouver ses amis et voisins et partager un repas festif en famille\, avec petits et grands. \nApportez simplement votre repas\, tables et chaises fournies. \nEN CAS DE MAUVAIS TEMPS\, LE PIQUE-NIQUE SERA REPORTE AU VENDREDI 14 SEPTEMBRE\, MÊME HEURE MÊME EMPLACEMENT. \n 
URL:https://www.lafeuillaume.fr/events/pique-nique-de-rentree/
LOCATION:Croisement Avenue des Suisses/Pigault-Lebrun\, 21 avenue des Suisses\, La Celle Saint-Cloud\, 78170\, France
CATEGORIES:pique-nique
ORGANIZER;CN="La Feuillaume":MAILTO:lafeuillaume@gmail.com
END:VEVENT
END:VCALENDAR